BEGIN:VCALENDAR
VERSION:2.0
PRODID:-//EFS Vasakyrkan - ECPv6.15.20//NONSGML v1.0//EN
CALSCALE:GREGORIAN
METHOD:PUBLISH
X-WR-CALNAME:EFS Vasakyrkan
X-ORIGINAL-URL:https://vasakyrkan.azurewebsites.net
X-WR-CALDESC:Events for EFS Vasakyrkan
REFRESH-INTERVAL;VALUE=DURATION:PT1H
X-Robots-Tag:noindex
X-PUBLISHED-TTL:PT1H
BEGIN:VTIMEZONE
TZID:Europe/Stockholm
BEGIN:DAYLIGHT
TZOFFSETFROM:+0100
TZOFFSETTO:+0200
TZNAME:CEST
DTSTART:20250330T010000
END:DAYLIGHT
BEGIN:STANDARD
TZOFFSETFROM:+0200
TZOFFSETTO:+0100
TZNAME:CET
DTSTART:20251026T010000
END:STANDARD
BEGIN:DAYLIGHT
TZOFFSETFROM:+0100
TZOFFSETTO:+0200
TZNAME:CEST
DTSTART:20260329T010000
END:DAYLIGHT
BEGIN:STANDARD
TZOFFSETFROM:+0200
TZOFFSETTO:+0100
TZNAME:CET
DTSTART:20261025T010000
END:STANDARD
BEGIN:DAYLIGHT
TZOFFSETFROM:+0100
TZOFFSETTO:+0200
TZNAME:CEST
DTSTART:20270328T010000
END:DAYLIGHT
BEGIN:STANDARD
TZOFFSETFROM:+0200
TZOFFSETTO:+0100
TZNAME:CET
DTSTART:20271031T010000
END:STANDARD
END:VTIMEZONE
BEGIN:VEVENT
DTSTART;TZID=Europe/Stockholm:20260310T123000
DTEND;TZID=Europe/Stockholm:20260310T130000
DTSTAMP:20260421T115911
CREATED:20260211T134635Z
LAST-MODIFIED:20260211T134635Z
UID:13618-1773145800-1773147600@vasakyrkan.azurewebsites.net
SUMMARY:Lunchbön
DESCRIPTION:Varje tisdag har vi lunchbön i Vasakyrkan. Vi träffas 12:30 för att tacka och lova Gud. Ingen anmälan krävs!
URL:https://vasakyrkan.azurewebsites.net/kalender/lunchbon-27/
LOCATION:Vasakyrkan\, Vasagatan 12\, Umeå\, Sweden
CATEGORIES:Föreningen,Gemenskap,Öppen Kyrka
ATTACH;FMTTYPE=image/jpeg:/wp-content/uploads/2023/10/Lunchbon.jpg
ORGANIZER;CN="Vasakyrkan%2C EFS Missionsf%C3%B6rening i Ume%C3%A5":MAILTO:info@vasakyrkan.com
END:VEVENT
BEGIN:VEVENT
DTSTART;TZID=Europe/Stockholm:20260310T130000
DTEND;TZID=Europe/Stockholm:20260310T143000
DTSTAMP:20260421T115911
CREATED:20260211T150253Z
LAST-MODIFIED:20260211T150253Z
UID:13644-1773147600-1773153000@vasakyrkan.azurewebsites.net
SUMMARY:Gemenskaps-Café
DESCRIPTION:För gemenskap och integration. \nVarje tisdag på Vasakyrkan. Välkommen! \n 
URL:https://vasakyrkan.azurewebsites.net/kalender/gemenskaps-cafe-21/
LOCATION:Vasakyrkan\, Vasagatan 12\, Umeå\, Sweden
CATEGORIES:Diakoni,Gemenskap
ATTACH;FMTTYPE=image/png:/wp-content/uploads/2024/10/Valkommen-1.png
ORGANIZER;CN="Vasakyrkan%2C EFS Missionsf%C3%B6rening i Ume%C3%A5":MAILTO:info@vasakyrkan.com
END:VEVENT
BEGIN:VEVENT
DTSTART;TZID=Europe/Stockholm:20260310T173000
DTEND;TZID=Europe/Stockholm:20260310T210000
DTSTAMP:20260421T115911
CREATED:20260220T095758Z
LAST-MODIFIED:20260220T095758Z
UID:13706-1773163800-1773176400@vasakyrkan.azurewebsites.net
SUMMARY:Årsmöte med soppmiddag
DESCRIPTION:Välkomna alla medlemmar till EFS föreningens ÅRSMÖTE  i Vasakyrkan.\nVi börjar med Soppmiddag kl. 17.30 därefter startar årsmötet
URL:https://vasakyrkan.azurewebsites.net/kalender/arsmote-med-soppmiddag-4/
LOCATION:Vasakyrkan\, Vasagatan 12\, Umeå\, Sweden
CATEGORIES:Föreningen
ATTACH;FMTTYPE=image/jpeg:/wp-content/uploads/2022/01/gavel-2492011_1920.jpg
ORGANIZER;CN="Vasakyrkan%2C EFS Missionsf%C3%B6rening i Ume%C3%A5":MAILTO:info@vasakyrkan.com
END:VEVENT
END:VCALENDAR